{"text_format":"1","workbook":"xlsx","n_sheets":1,"sheets":["22 Maart"],"not_rendered":{"charts":0,"images":0,"macros":1,"external_links":1,"defined_names":0,"comments":0,"pivot_tables":0},"unopened":[],"bounds":{"document_bytes":16777216,"sheet_cells":100000,"rows_first":2000,"rows_last":500,"rows_between":2000,"halvings":0,"cell_chars":16384,"cell_head_chars":4096},"cells_cut":0,"cells_raw":0,"read":"whole","date_system":"1900"}

{"sheet":"22 Maart","index":0,"n_rows":107,"n_cols":22,"rows_kept":107,"cut":false,"hidden":false,"merged":[[1,6,1,8],[1,9,1,11],[1,12,1,14]]}
[]
[null,"Nr.","Aanw","Voornaam","Voorv.","Achternaam","1e Partij",null,null,"2e Partij",null,null,"3e Partij",null,null,"W/V",null,null,null,null,"Winst","Saldo"]
[null,{"$f":"[1]Leden!A44","v":43},1,{"$f":"IF([1]Leden!B44=0,\"\",[1]Leden!B44)","v":"Henny"},{"$f":"IF([1]Leden!C44=0,\"\",[1]Leden!C44)","v":""},{"$f":"IF([1]Leden!D44=0,\"\",[1]Leden!D44)","v":"Norbart"},13,"-",9,13,"-",7,13,"-",3,{"$f":"IF(G3>I3,1,0)","v":1},{"$f":"IF(J3>L3,1,0)","v":1},{"$f":"IF(M3>O3,1,0)","v":1},{"$f":"IF(C3=1,G3+J3+M3,0)","v":39},{"$f":"IF(C3=1,I3+L3+O3,\"\")","v":19},{"$f":"IF(AND(C3=1,SUM(P3:R3)>0),SUM(P3:R3),\"\")","v":3},{"$f":"IF(C3=1,S3-T3,\"\")","v":20}]
[null,{"$f":"[1]Leden!A35","v":34},1,{"$f":"IF([1]Leden!B35=0,\"\",[1]Leden!B35)","v":"Henk"},{"$f":"IF([1]Leden!C35=0,\"\",[1]Leden!C35)","v":""},{"$f":"IF([1]Leden!D35=0,\"\",[1]Leden!D35)","v":"Koet"},13,"-",2,13,"-",1,10,"-",13,{"$f":"IF(G4>I4,1,0)","v":1},{"$f":"IF(J4>L4,1,0)","v":1},{"$f":"IF(M4>O4,1,0)","v":0},{"$f":"IF(C4=1,G4+J4+M4,0)","v":36},{"$f":"IF(C4=1,I4+L4+O4,\"\")","v":16},{"$f":"IF(AND(C4=1,SUM(P4:R4)>0),SUM(P4:R4),\"\")","v":2},{"$f":"IF(C4=1,S4-T4,\"\")","v":20}]
[null,{"$f":"[1]Leden!A36","v":35},1,{"$f":"IF([1]Leden!B36=0,\"\",[1]Leden!B36)","v":"Wim"},{"$f":"IF([1]Leden!C36=0,\"\",[1]Leden!C36)","v":"van"},{"$f":"IF([1]Leden!D36=0,\"\",[1]Leden!D36)","v":"Kouwen"},13,"-",9,7,"-",13,13,"-",3,{"$f":"IF(G5>I5,1,0)","v":1},{"$f":"IF(J5>L5,1,0)","v":0},{"$f":"IF(M5>O5,1,0)","v":1},{"$f":"IF(C5=1,G5+J5+M5,0)","v":33},{"$f":"IF(C5=1,I5+L5+O5,\"\")","v":25},{"$f":"IF(AND(C5=1,SUM(P5:R5)>0),SUM(P5:R5),\"\")","v":2},{"$f":"IF(C5=1,S5-T5,\"\")","v":8}]
[null,{"$f":"[1]Leden!A13","v":12},1,{"$f":"IF([1]Leden!B13=0,\"\",[1]Leden!B13)","v":"Bets"},{"$f":"IF([1]Leden!C13=0,\"\",[1]Leden!C13)","v":""},{"$f":"IF([1]Leden!D13=0,\"\",[1]Leden!D13)","v":"Colijn"},2,"-",13,13,"-",1,13,"-",10,{"$f":"IF(G6>I6,1,0)","v":0},{"$f":"IF(J6>L6,1,0)","v":1},{"$f":"IF(M6>O6,1,0)","v":1},{"$f":"IF(C6=1,G6+J6+M6,0)","v":28},{"$f":"IF(C6=1,I6+L6+O6,\"\")","v":24},{"$f":"IF(AND(C6=1,SUM(P6:R6)>0),SUM(P6:R6),\"\")","v":2},{"$f":"IF(C6=1,S6-T6,\"\")","v":4}]
[null,{"$f":"[1]Leden!A23","v":22},1,{"$f":"IF([1]Leden!B23=0,\"\",[1]Leden!B23)","v":"Arjan"},{"$f":"IF([1]Leden!C23=0,\"\",[1]Leden!C23)","v":"de"},{"$f":"IF([1]Leden!D23=0,\"\",[1]Leden!D23)","v":"Grijff"},13,"-",2,1,"-",13,13,"-",10,{"$f":"IF(G7>I7,1,0)","v":1},{"$f":"IF(J7>L7,1,0)","v":0},{"$f":"IF(M7>O7,1,0)","v":1},{"$f":"IF(C7=1,G7+J7+M7,0)","v":27},{"$f":"IF(C7=1,I7+L7+O7,\"\")","v":25},{"$f":"IF(AND(C7=1,SUM(P7:R7)>0),SUM(P7:R7),\"\")","v":2},{"$f":"IF(C7=1,S7-T7,\"\")","v":2}]
[null,{"$f":"[1]Leden!A21","v":20},1,{"$f":"IF([1]Leden!B21=0,\"\",[1]Leden!B21)","v":"Harmien"},{"$f":"IF([1]Leden!C21=0,\"\",[1]Leden!C21)","v":""},{"$f":"IF([1]Leden!D21=0,\"\",[1]Leden!D21)","v":"Folkers"},9,"-",13,7,"-",13,13,"-",3,{"$f":"IF(G8>I8,1,0)","v":0},{"$f":"IF(J8>L8,1,0)","v":0},{"$f":"IF(M8>O8,1,0)","v":1},{"$f":"IF(C8=1,G8+J8+M8,0)","v":29},{"$f":"IF(C8=1,I8+L8+O8,\"\")","v":29},{"$f":"IF(AND(C8=1,SUM(P8:R8)>0),SUM(P8:R8),\"\")","v":1},{"$f":"IF(C8=1,S8-T8,\"\")","v":0}]
[null,{"$f":"[1]Leden!A22","v":21},1,{"$f":"IF([1]Leden!B22=0,\"\",[1]Leden!B22)","v":"Gerard"},{"$f":"IF([1]Leden!C22=0,\"\",[1]Leden!C22)","v":""},{"$f":"IF([1]Leden!D22=0,\"\",[1]Leden!D22)","v":"Geradts"},9,"-",13,13,"-",7,3,"-",13,{"$f":"IF(G9>I9,1,0)","v":0},{"$f":"IF(J9>L9,1,0)","v":1},{"$f":"IF(M9>O9,1,0)","v":0},{"$f":"IF(C9=1,G9+J9+M9,0)","v":25},{"$f":"IF(C9=1,I9+L9+O9,\"\")","v":33},{"$f":"IF(AND(C9=1,SUM(P9:R9)>0),SUM(P9:R9),\"\")","v":1},{"$f":"IF(C9=1,S9-T9,\"\")","v":-8}]
[null,{"$f":"[1]Leden!A62","v":61},1,{"$f":"IF([1]Leden!B62=0,\"\",[1]Leden!B62)","v":"James"},{"$f":"IF([1]Leden!C62=0,\"\",[1]Leden!C62)","v":""},{"$f":"IF([1]Leden!D62=0,\"\",[1]Leden!D62)","v":"Tji"},9,"-",13,13,"-",7,3,"-",13,{"$f":"IF(G10>I10,1,0)","v":0},{"$f":"IF(J10>L10,1,0)","v":1},{"$f":"IF(M10>O10,1,0)","v":0},{"$f":"IF(C10=1,G10+J10+M10,0)","v":25},{"$f":"IF(C10=1,I10+L10+O10,\"\")","v":33},{"$f":"IF(AND(C10=1,SUM(P10:R10)>0),SUM(P10:R10),\"\")","v":1},{"$f":"IF(C10=1,S10-T10,\"\")","v":-8}]
[null,{"$f":"[1]Leden!A73","v":72},1,{"$f":"IF([1]Leden!B73=0,\"\",[1]Leden!B73)","v":"Fien"},{"$f":"IF([1]Leden!C73=0,\"\",[1]Leden!C73)","v":""},{"$f":"IF([1]Leden!D73=0,\"\",[1]Leden!D73)","v":"Wouters"},13,"-",9,7,"-",13,3,"-",13,{"$f":"IF(G11>I11,1,0)","v":1},{"$f":"IF(J11>L11,1,0)","v":0},{"$f":"IF(M11>O11,1,0)","v":0},{"$f":"IF(C11=1,G11+J11+M11,0)","v":23},{"$f":"IF(C11=1,I11+L11+O11,\"\")","v":35},{"$f":"IF(AND(C11=1,SUM(P11:R11)>0),SUM(P11:R11),\"\")","v":1},{"$f":"IF(C11=1,S11-T11,\"\")","v":-12}]
[null,{"$f":"[1]Leden!A33","v":32},1,{"$f":"IF([1]Leden!B33=0,\"\",[1]Leden!B33)","v":"Daria"},{"$f":"IF([1]Leden!C33=0,\"\",[1]Leden!C33)","v":"van"},{"$f":"IF([1]Leden!D33=0,\"\",[1]Leden!D33)","v":"Kenna"},2,"-",13,1,"-",13,10,"-",13,{"$f":"IF(G12>I12,1,0)","v":0},{"$f":"IF(J12>L12,1,0)","v":0},{"$f":"IF(M12>O12,1,0)","v":0},{"$f":"IF(C12=1,G12+J12+M12,0)","v":13},{"$f":"IF(C12=1,I12+L12+O12,\"\")","v":39},0,{"$f":"IF(C12=1,S12-T12,\"\")","v":-26}]
[null,{"$f":"[1]Leden!A2","v":1},null,{"$f":"IF([1]Leden!B2=0,\"\",[1]Leden!B2)","v":"Youssef"},{"$f":"IF([1]Leden!C2=0,\"\",[1]Leden!C2)","v":""},{"$f":"IF([1]Leden!D2=0,\"\",[1]Leden!D2)","v":"Ali"},null,"-",null,null,"-",null,null,"-",null,{"$f":"IF(G13>I13,1,0)","v":0},{"$f":"IF(J13>L13,1,0)","v":0},{"$f":"IF(M13>O13,1,0)","v":0},{"$f":"IF(C13=1,G13+J13+M13,0)","v":0},{"$f":"IF(C13=1,I13+L13+O13,\"\")","v":""},{"$f":"IF(AND(C13=1,SUM(P13:R13)>0),SUM(P13:R13),\"\")","v":""},{"$f":"IF(C13=1,S13-T13,\"\")","v":""}]
[null,{"$f":"[1]Leden!A3","v":2},null,{"$f":"IF([1]Leden!B3=0,\"\",[1]Leden!B3)","v":"Maria"},{"$f":"IF([1]Leden!C3=0,\"\",[1]Leden!C3)","v":"van"},{"$f":"IF([1]Leden!D3=0,\"\",[1]Leden!D3)","v":"Amstel"},null,"-",null,null,"-",null,null,"-",null,{"$f":"IF(G14>I14,1,0)","v":0},{"$f":"IF(J14>L14,1,0)","v":0},{"$f":"IF(M14>O14,1,0)","v":0},{"$f":"IF(C14=1,G14+J14+M14,0)","v":0},{"$f":"IF(C14=1,I14+L14+O14,\"\")","v":""},{"$f":"IF(AND(C14=1,SUM(P14:R14)>0),SUM(P14:R14),\"\")","v":""},{"$f":"IF(C14=1,S14-T14,\"\")","v":""}]
[null,{"$f":"[1]Leden!A4","v":3},null,{"$f":"IF([1]Leden!B4=0,\"\",[1]Leden!B4)","v":"Henk"},{"$f":"IF([1]Leden!C4=0,\"\",[1]Leden!C4)","v":""},{"$f":"IF([1]Leden!D4=0,\"\",[1]Leden!D4)","v":"Bastiaan"},null,"-",null,null,"-",null,null,"-",null,{"$f":"IF(G15>I15,1,0)","v":0},{"$f":"IF(J15>L15,1,0)","v":0},{"$f":"IF(M15>O15,1,0)","v":0},{"$f":"IF(C15=1,G15+J15+M15,0)","v":0},{"$f":"IF(C15=1,I15+L15+O15,\"\")","v":""},{"$f":"IF(AND(C15=1,SUM(P15:R15)>0),SUM(P15:R15),\"\")","v":""},{"$f":"IF(C15=1,S15-T15,\"\")","v":""}]
[null,{"$f":"[1]Leden!A5","v":4},null,{"$f":"IF([1]Leden!B5=0,\"\",[1]Leden!B5)","v":"Bep"},{"$f":"IF([1]Leden!C5=0,\"\",[1]Leden!C5)","v":""},{"$f":"IF([1]Leden!D5=0,\"\",[1]Leden!D5)","v":"Bauhaus"},null,"-",null,null,"-",null,null,"-",null,{"$f":"IF(G16>I16,1,0)","v":0},{"$f":"IF(J16>L16,1,0)","v":0},{"$f":"IF(M16>O16,1,0)","v":0},{"$f":"IF(C16=1,G16+J16+M16,0)","v":0},{"$f":"IF(C16=1,I16+L16+O16,\"\")","v":""},{"$f":"IF(AND(C16=1,SUM(P16:R16)>0),SUM(P16:R16),\"\")","v":""},{"$f":"IF(C16=1,S16-T16,\"\")","v":""}]
[null,{"$f":"[1]Leden!A6","v":5},null,{"$f":"IF([1]Leden!B6=0,\"\",[1]Leden!B6)","v":"Martin"},{"$f":"IF([1]Leden!C6=0,\"\",[1]Leden!C6)","v":"van"},{"$f":"IF([1]Leden!D6=0,\"\",[1]Leden!D6)","v":"Bezu"},null,"-",null,null,"-",null,null,"-",null,{"$f":"IF(G17>I17,1,0)","v":0},{"$f":"IF(J17>L17,1,0)","v":0},{"$f":"IF(M17>O17,1,0)","v":0},{"$f":"IF(C17=1,G17+J17+M17,0)","v":0},{"$f":"IF(C17=1,I17+L17+O17,\"\")","v":""},{"$f":"IF(AND(C17=1,SUM(P17:R17)>0),SUM(P17:R17),\"\")","v":""},{"$f":"IF(C17=1,S17-T17,\"\")","v":""}]
[null,{"$f":"[1]Leden!A7","v":6},null,{"$f":"IF([1]Leden!B7=0,\"\",[1]Leden!B7)","v":"Ria"},{"$f":"IF([1]Leden!C7=0,\"\",[1]Leden!C7)","v":"van"},{"$f":"IF([1]Leden!D7=0,\"\",[1]Leden!D7)","v":"Bezu"},null,"-",null,null,"-",null,null,"-",null,{"$f":"IF(G18>I18,1,0)","v":0},{"$f":"IF(J18>L18,1,0)","v":0},{"$f":"IF(M18>O18,1,0)","v":0},{"$f":"IF(C18=1,G18+J18+M18,0)","v":0},{"$f":"IF(C18=1,I18+L18+O18,\"\")","v":""},{"$f":"IF(AND(C18=1,SUM(P18:R18)>0),SUM(P18:R18),\"\")","v":""},{"$f":"IF(C18=1,S18-T18,\"\")","v":""}]
[null,{"$f":"[1]Leden!A8","v":7},null,{"$f":"IF([1]Leden!B8=0,\"\",[1]Leden!B8)","v":"Annie"},{"$f":"IF([1]Leden!C8=0,\"\",[1]Leden!C8)","v":""},{"$f":"IF([1]Leden!D8=0,\"\",[1]Leden!D8)","v":"Blaauwgeers"},null,"-",null,null,"-",null,null,"-",null,{"$f":"IF(G19>I19,1,0)","v":0},{"$f":"IF(J19>L19,1,0)","v":0},{"$f":"IF(M19>O19,1,0)","v":0},{"$f":"IF(C19=1,G19+J19+M19,0)","v":0},{"$f":"IF(C19=1,I19+L19+O19,\"\")","v":""},{"$f":"IF(AND(C19=1,SUM(P19:R19)>0),SUM(P19:R19),\"\")","v":""},{"$f":"IF(C19=1,S19-T19,\"\")","v":""}]
[null,{"$f":"[1]Leden!A9","v":8},null,{"$f":"IF([1]Leden!B9=0,\"\",[1]Leden!B9)","v":"Cor "},{"$f":"IF([1]Leden!C9=0,\"\",[1]Leden!C9)","v":""},{"$f":"IF([1]Leden!D9=0,\"\",[1]Leden!D9)","v":"Boer"},null,"-",null,null,"-",null,null,"-",null,{"$f":"IF(G20>I20,1,0)","v":0},{"$f":"IF(J20>L20,1,0)","v":0},{"$f":"IF(M20>O20,1,0)","v":0},{"$f":"IF(C20=1,G20+J20+M20,0)","v":0},{"$f":"IF(C20=1,I20+L20+O20,\"\")","v":""},{"$f":"IF(AND(C20=1,SUM(P20:R20)>0),SUM(P20:R20),\"\")","v":""},{"$f":"IF(C20=1,S20-T20,\"\")","v":""}]
[null,{"$f":"[1]Leden!A10","v":9},null,{"$f":"IF([1]Leden!B10=0,\"\",[1]Leden!B10)","v":"Hannie"},{"$f":"IF([1]Leden!C10=0,\"\",[1]Leden!C10)","v":"van den"},{"$f":"IF([1]Leden!D10=0,\"\",[1]Leden!D10)","v":"Boom"},null,"-",null,null,"-",null,null,"-",null,{"$f":"IF(G21>I21,1,0)","v":0},{"$f":"IF(J21>L21,1,0)","v":0},{"$f":"IF(M21>O21,1,0)","v":0},{"$f":"IF(C21=1,G21+J21+M21,0)","v":0},{"$f":"IF(C21=1,I21+L21+O21,\"\")","v":""},{"$f":"IF(AND(C21=1,SUM(P21:R21)>0),SUM(P21:R21),\"\")","v":""},{"$f":"IF(C21=1,S21-T21,\"\")","v":""}]
[null,{"$f":"[1]Leden!A11","v":10},null,{"$f":"IF([1]Leden!B11=0,\"\",[1]Leden!B11)","v":"Ans"},{"$f":"IF([1]Leden!C11=0,\"\",[1]Leden!C11)","v":"van"},{"$f":"IF([1]Leden!D11=0,\"\",[1]Leden!D11)","v":"Breukelen"},null,"-",null,null,"-",null,null,"-",null,{"$f":"IF(G22>I22,1,0)","v":0},{"$f":"IF(J22>L22,1,0)","v":0},{"$f":"IF(M22>O22,1,0)","v":0},{"$f":"IF(C22=1,G22+J22+M22,0)","v":0},{"$f":"IF(C22=1,I22+L22+O22,\"\")","v":""},{"$f":"IF(AND(C22=1,SUM(P22:R22)>0),SUM(P22:R22),\"\")","v":""},{"$f":"IF(C22=1,S22-T22,\"\")","v":""}]
[null,{"$f":"[1]Leden!A12","v":11},null,{"$f":"IF([1]Leden!B12=0,\"\",[1]Leden!B12)","v":"Joop"},{"$f":"IF([1]Leden!C12=0,\"\",[1]Leden!C12)","v":"van"},{"$f":"IF([1]Leden!D12=0,\"\",[1]Leden!D12)","v":"Breukelen"},null,"-",null,null,"-",null,null,"-",null,{"$f":"IF(G23>I23,1,0)","v":0},{"$f":"IF(J23>L23,1,0)","v":0},{"$f":"IF(M23>O23,1,0)","v":0},{"$f":"IF(C23=1,G23+J23+M23,0)","v":0},{"$f":"IF(C23=1,I23+L23+O23,\"\")","v":""},{"$f":"IF(AND(C23=1,SUM(P23:R23)>0),SUM(P23:R23),\"\")","v":""},{"$f":"IF(C23=1,S23-T23,\"\")","v":""}]
[null,{"$f":"[1]Leden!A14","v":13},null,{"$f":"IF([1]Leden!B14=0,\"\",[1]Leden!B14)","v":"Paul"},{"$f":"IF([1]Leden!C14=0,\"\",[1]Leden!C14)","v":"den "},{"$f":"IF([1]Leden!D14=0,\"\",[1]Leden!D14)","v":"Dekker"},null,"-",null,null,"-",null,null,"-",null,{"$f":"IF(G24>I24,1,0)","v":0},{"$f":"IF(J24>L24,1,0)","v":0},{"$f":"IF(M24>O24,1,0)","v":0},{"$f":"IF(C24=1,G24+J24+M24,0)","v":0},{"$f":"IF(C24=1,I24+L24+O24,\"\")","v":""},{"$f":"IF(AND(C24=1,SUM(P24:R24)>0),SUM(P24:R24),\"\")","v":""},{"$f":"IF(C24=1,S24-T24,\"\")","v":""}]
[null,{"$f":"[1]Leden!A15","v":14},null,{"$f":"IF([1]Leden!B15=0,\"\",[1]Leden!B15)","v":"Ko"},{"$f":"IF([1]Leden!C15=0,\"\",[1]Leden!C15)","v":"van"},{"$f":"IF([1]Leden!D15=0,\"\",[1]Leden!D15)","v":"Duuren"},null,"-",null,null,"-",null,null,"-",null,{"$f":"IF(G25>I25,1,0)","v":0},{"$f":"IF(J25>L25,1,0)","v":0},{"$f":"IF(M25>O25,1,0)","v":0},{"$f":"IF(C25=1,G25+J25+M25,0)","v":0},{"$f":"IF(C25=1,I25+L25+O25,\"\")","v":""},{"$f":"IF(AND(C25=1,SUM(P25:R25)>0),SUM(P25:R25),\"\")","v":""},{"$f":"IF(C25=1,S25-T25,\"\")","v":""}]
[null,{"$f":"[1]Leden!A16","v":15},null,{"$f":"IF([1]Leden!B16=0,\"\",[1]Leden!B16)","v":"Gerard"},{"$f":"IF([1]Leden!C16=0,\"\",[1]Leden!C16)","v":""},{"$f":"IF([1]Leden!D16=0,\"\",[1]Leden!D16)","v":"Elsing"},null,"-",null,null,"-",null,null,"-",null,{"$f":"IF(G26>I26,1,0)","v":0},{"$f":"IF(J26>L26,1,0)","v":0},{"$f":"IF(M26>O26,1,0)","v":0},{"$f":"IF(C26=1,G26+J26+M26,0)","v":0},{"$f":"IF(C26=1,I26+L26+O26,\"\")","v":""},{"$f":"IF(AND(C26=1,SUM(P26:R26)>0),SUM(P26:R26),\"\")","v":""},{"$f":"IF(C26=1,S26-T26,\"\")","v":""}]
[null,{"$f":"[1]Leden!A17","v":16},null,{"$f":"IF([1]Leden!B17=0,\"\",[1]Leden!B17)","v":"Rineke"},{"$f":"IF([1]Leden!C17=0,\"\",[1]Leden!C17)","v":""},{"$f":"IF([1]Leden!D17=0,\"\",[1]Leden!D17)","v":"Elsing"},null,"-",null,null,"-",null,null,"-",null,{"$f":"IF(G27>I27,1,0)","v":0},{"$f":"IF(J27>L27,1,0)","v":0},{"$f":"IF(M27>O27,1,0)","v":0},{"$f":"IF(C27=1,G27+J27+M27,0)","v":0},{"$f":"IF(C27=1,I27+L27+O27,\"\")","v":""},{"$f":"IF(AND(C27=1,SUM(P27:R27)>0),SUM(P27:R27),\"\")","v":""},{"$f":"IF(C27=1,S27-T27,\"\")","v":""}]
[null,{"$f":"[1]Leden!A18","v":17},null,{"$f":"IF([1]Leden!B18=0,\"\",[1]Leden!B18)","v":"Henk"},{"$f":"IF([1]Leden!C18=0,\"\",[1]Leden!C18)","v":""},{"$f":"IF([1]Leden!D18=0,\"\",[1]Leden!D18)","v":"Enserink"},null,"-",null,null,"-",null,null,"-",null,{"$f":"IF(G28>I28,1,0)","v":0},{"$f":"IF(J28>L28,1,0)","v":0},{"$f":"IF(M28>O28,1,0)","v":0},{"$f":"IF(C28=1,G28+J28+M28,0)","v":0},{"$f":"IF(C28=1,I28+L28+O28,\"\")","v":""},{"$f":"IF(AND(C28=1,SUM(P28:R28)>0),SUM(P28:R28),\"\")","v":""},{"$f":"IF(C28=1,S28-T28,\"\")","v":""}]
[null,{"$f":"[1]Leden!A19","v":18},null,{"$f":"IF([1]Leden!B19=0,\"\",[1]Leden!B19)","v":"Geert"},{"$f":"IF([1]Leden!C19=0,\"\",[1]Leden!C19)","v":""},{"$f":"IF([1]Leden!D19=0,\"\",[1]Leden!D19)","v":"Eshuis"},null,"-",null,null,"-",null,null,"-",null,{"$f":"IF(G29>I29,1,0)","v":0},{"$f":"IF(J29>L29,1,0)","v":0},{"$f":"IF(M29>O29,1,0)","v":0},{"$f":"IF(C29=1,G29+J29+M29,0)","v":0},{"$f":"IF(C29=1,I29+L29+O29,\"\")","v":""},{"$f":"IF(AND(C29=1,SUM(P29:R29)>0),SUM(P29:R29),\"\")","v":""},{"$f":"IF(C29=1,S29-T29,\"\")","v":""}]
[null,{"$f":"[1]Leden!A20","v":19},null,{"$f":"IF([1]Leden!B20=0,\"\",[1]Leden!B20)","v":"Evert"},{"$f":"IF([1]Leden!C20=0,\"\",[1]Leden!C20)","v":""},{"$f":"IF([1]Leden!D20=0,\"\",[1]Leden!D20)","v":"Eversen"},null,"-",null,null,"-",null,null,"-",null,{"$f":"IF(G30>I30,1,0)","v":0},{"$f":"IF(J30>L30,1,0)","v":0},{"$f":"IF(M30>O30,1,0)","v":0},{"$f":"IF(C30=1,G30+J30+M30,0)","v":0},{"$f":"IF(C30=1,I30+L30+O30,\"\")","v":""},{"$f":"IF(AND(C30=1,SUM(P30:R30)>0),SUM(P30:R30),\"\")","v":""},{"$f":"IF(C30=1,S30-T30,\"\")","v":""}]
[null,{"$f":"[1]Leden!A24","v":23},null,{"$f":"IF([1]Leden!B24=0,\"\",[1]Leden!B24)","v":"Jolanda"},{"$f":"IF([1]Leden!C24=0,\"\",[1]Leden!C24)","v":"van"},{"$f":"IF([1]Leden!D24=0,\"\",[1]Leden!D24)","v":"Groeningen "},null,"-",null,null,"-",null,null,"-",null,{"$f":"IF(G31>I31,1,0)","v":0},{"$f":"IF(J31>L31,1,0)","v":0},{"$f":"IF(M31>O31,1,0)","v":0},{"$f":"IF(C31=1,G31+J31+M31,0)","v":0},{"$f":"IF(C31=1,I31+L31+O31,\"\")","v":""},{"$f":"IF(AND(C31=1,SUM(P31:R31)>0),SUM(P31:R31),\"\")","v":""},{"$f":"IF(C31=1,S31-T31,\"\")","v":""}]
[null,{"$f":"[1]Leden!A25","v":24},null,{"$f":"IF([1]Leden!B25=0,\"\",[1]Leden!B25)","v":"Nel"},{"$f":"IF([1]Leden!C25=0,\"\",[1]Leden!C25)","v":"van"},{"$f":"IF([1]Leden!D25=0,\"\",[1]Leden!D25)","v":"Groeningen "},null,"-",null,null,"-",null,null,"-",null,{"$f":"IF(G32>I32,1,0)","v":0},{"$f":"IF(J32>L32,1,0)","v":0},{"$f":"IF(M32>O32,1,0)","v":0},{"$f":"IF(C32=1,G32+J32+M32,0)","v":0},{"$f":"IF(C32=1,I32+L32+O32,\"\")","v":""},{"$f":"IF(AND(C32=1,SUM(P32:R32)>0),SUM(P32:R32),\"\")","v":""},{"$f":"IF(C32=1,S32-T32,\"\")","v":""}]
[null,{"$f":"[1]Leden!A26","v":25},null,{"$f":"IF([1]Leden!B26=0,\"\",[1]Leden!B26)","v":"Ruud"},{"$f":"IF([1]Leden!C26=0,\"\",[1]Leden!C26)","v":"de"},{"$f":"IF([1]Leden!D26=0,\"\",[1]Leden!D26)","v":"Groot"},null,"-",null,null,"-",null,null,"-",null,{"$f":"IF(G33>I33,1,0)","v":0},{"$f":"IF(J33>L33,1,0)","v":0},{"$f":"IF(M33>O33,1,0)","v":0},{"$f":"IF(C33=1,G33+J33+M33,0)","v":0},{"$f":"IF(C33=1,I33+L33+O33,\"\")","v":""},{"$f":"IF(AND(C33=1,SUM(P33:R33)>0),SUM(P33:R33),\"\")","v":""},{"$f":"IF(C33=1,S33-T33,\"\")","v":""}]
[null,{"$f":"[1]Leden!A27","v":26},null,{"$f":"IF([1]Leden!B27=0,\"\",[1]Leden!B27)","v":"Wil"},{"$f":"IF([1]Leden!C27=0,\"\",[1]Leden!C27)","v":"de"},{"$f":"IF([1]Leden!D27=0,\"\",[1]Leden!D27)","v":"Groot"},null,"-",null,null,"-",null,null,"-",null,{"$f":"IF(G34>I34,1,0)","v":0},{"$f":"IF(J34>L34,1,0)","v":0},{"$f":"IF(M34>O34,1,0)","v":0},{"$f":"IF(C34=1,G34+J34+M34,0)","v":0},{"$f":"IF(C34=1,I34+L34+O34,\"\")","v":""},{"$f":"IF(AND(C34=1,SUM(P34:R34)>0),SUM(P34:R34),\"\")","v":""},{"$f":"IF(C34=1,S34-T34,\"\")","v":""}]
[null,{"$f":"[1]Leden!A28","v":27},null,{"$f":"IF([1]Leden!B28=0,\"\",[1]Leden!B28)","v":"Peter"},{"$f":"IF([1]Leden!C28=0,\"\",[1]Leden!C28)","v":""},{"$f":"IF([1]Leden!D28=0,\"\",[1]Leden!D28)","v":"Hogervorst"},null,"-",null,null,"-",null,null,"-",null,{"$f":"IF(G35>I35,1,0)","v":0},{"$f":"IF(J35>L35,1,0)","v":0},{"$f":"IF(M35>O35,1,0)","v":0},{"$f":"IF(C35=1,G35+J35+M35,0)","v":0},{"$f":"IF(C35=1,I35+L35+O35,\"\")","v":""},{"$f":"IF(AND(C35=1,SUM(P35:R35)>0),SUM(P35:R35),\"\")","v":""},{"$f":"IF(C35=1,S35-T35,\"\")","v":""}]
[null,{"$f":"[1]Leden!A29","v":28},null,{"$f":"IF([1]Leden!B29=0,\"\",[1]Leden!B29)","v":"Zeger"},{"$f":"IF([1]Leden!C29=0,\"\",[1]Leden!C29)","v":"van"},{"$f":"IF([1]Leden!D29=0,\"\",[1]Leden!D29)","v":"Hunen"},null,"-",null,null,"-",null,null,"-",null,{"$f":"IF(G36>I36,1,0)","v":0},{"$f":"IF(J36>L36,1,0)","v":0},{"$f":"IF(M36>O36,1,0)","v":0},{"$f":"IF(C36=1,G36+J36+M36,0)","v":0},{"$f":"IF(C36=1,I36+L36+O36,\"\")","v":""},{"$f":"IF(AND(C36=1,SUM(P36:R36)>0),SUM(P36:R36),\"\")","v":""},{"$f":"IF(C36=1,S36-T36,\"\")","v":""}]
[null,{"$f":"[1]Leden!A30","v":29},null,{"$f":"IF([1]Leden!B30=0,\"\",[1]Leden!B30)","v":"Corry"},{"$f":"IF([1]Leden!C30=0,\"\",[1]Leden!C30)","v":"van de"},{"$f":"IF([1]Leden!D30=0,\"\",[1]Leden!D30)","v":"Jans-Akker"},null,"-",null,null,"-",null,null,"-",null,{"$f":"IF(G37>I37,1,0)","v":0},{"$f":"IF(J37>L37,1,0)","v":0},{"$f":"IF(M37>O37,1,0)","v":0},{"$f":"IF(C37=1,G37+J37+M37,0)","v":0},{"$f":"IF(C37=1,I37+L37+O37,\"\")","v":""},{"$f":"IF(AND(C37=1,SUM(P37:R37)>0),SUM(P37:R37),\"\")","v":""},{"$f":"IF(C37=1,S37-T37,\"\")","v":""}]
[null,{"$f":"[1]Leden!A31","v":30},null,{"$f":"IF([1]Leden!B31=0,\"\",[1]Leden!B31)","v":"Nel"},{"$f":"IF([1]Leden!C31=0,\"\",[1]Leden!C31)","v":"de"},{"$f":"IF([1]Leden!D31=0,\"\",[1]Leden!D31)","v":"Jong"},null,"-",null,null,"-",null,null,"-",null,{"$f":"IF(G38>I38,1,0)","v":0},{"$f":"IF(J38>L38,1,0)","v":0},{"$f":"IF(M38>O38,1,0)","v":0},{"$f":"IF(C38=1,G38+J38+M38,0)","v":0},{"$f":"IF(C38=1,I38+L38+O38,\"\")","v":""},{"$f":"IF(AND(C38=1,SUM(P38:R38)>0),SUM(P38:R38),\"\")","v":""},{"$f":"IF(C38=1,S38-T38,\"\")","v":""}]
[null,{"$f":"[1]Leden!A32","v":31},null,{"$f":"IF([1]Leden!B32=0,\"\",[1]Leden!B32)","v":"Ella"},{"$f":"IF([1]Leden!C32=0,\"\",[1]Leden!C32)","v":"van"},{"$f":"IF([1]Leden!D32=0,\"\",[1]Leden!D32)","v":"Kappel"},null,"-",null,null,"-",null,null,"-",null,{"$f":"IF(G39>I39,1,0)","v":0},{"$f":"IF(J39>L39,1,0)","v":0},{"$f":"IF(M39>O39,1,0)","v":0},{"$f":"IF(C39=1,G39+J39+M39,0)","v":0},{"$f":"IF(C39=1,I39+L39+O39,\"\")","v":""},{"$f":"IF(AND(C39=1,SUM(P39:R39)>0),SUM(P39:R39),\"\")","v":""},{"$f":"IF(C39=1,S39-T39,\"\")","v":""}]
[null,{"$f":"[1]Leden!A34","v":33},null,{"$f":"IF([1]Leden!B34=0,\"\",[1]Leden!B34)","v":"Leis"},{"$f":"IF([1]Leden!C34=0,\"\",[1]Leden!C34)","v":""},{"$f":"IF([1]Leden!D34=0,\"\",[1]Leden!D34)","v":"Klein Gebbink"},null,"-",null,null,"-",null,null,"-",null,{"$f":"IF(G40>I40,1,0)","v":0},{"$f":"IF(J40>L40,1,0)","v":0},{"$f":"IF(M40>O40,1,0)","v":0},{"$f":"IF(C40=1,G40+J40+M40,0)","v":0},{"$f":"IF(C40=1,I40+L40+O40,\"\")","v":""},{"$f":"IF(AND(C40=1,SUM(P40:R40)>0),SUM(P40:R40),\"\")","v":""},{"$f":"IF(C40=1,S40-T40,\"\")","v":""}]
[null,{"$f":"[1]Leden!A37","v":36},null,{"$f":"IF([1]Leden!B37=0,\"\",[1]Leden!B37)","v":"Jan"},{"$f":"IF([1]Leden!C37=0,\"\",[1]Leden!C37)","v":"de"},{"$f":"IF([1]Leden!D37=0,\"\",[1]Leden!D37)","v":"Lange"},null,"-",null,null,"-",null,null,"-",null,{"$f":"IF(G41>I41,1,0)","v":0},{"$f":"IF(J41>L41,1,0)","v":0},{"$f":"IF(M41>O41,1,0)","v":0},{"$f":"IF(C41=1,G41+J41+M41,0)","v":0},{"$f":"IF(C41=1,I41+L41+O41,\"\")","v":""},{"$f":"IF(AND(C41=1,SUM(P41:R41)>0),SUM(P41:R41),\"\")","v":""},{"$f":"IF(C41=1,S41-T41,\"\")","v":""}]
[null,{"$f":"[1]Leden!A38","v":37},null,{"$f":"IF([1]Leden!B38=0,\"\",[1]Leden!B38)","v":"Rob"},{"$f":"IF([1]Leden!C38=0,\"\",[1]Leden!C38)","v":"de "},{"$f":"IF([1]Leden!D38=0,\"\",[1]Leden!D38)","v":"Leeuw"},null,"-",null,null,"-",null,null,"-",null,{"$f":"IF(G42>I42,1,0)","v":0},{"$f":"IF(J42>L42,1,0)","v":0},{"$f":"IF(M42>O42,1,0)","v":0},{"$f":"IF(C42=1,G42+J42+M42,0)","v":0},{"$f":"IF(C42=1,I42+L42+O42,\"\")","v":""},{"$f":"IF(AND(C42=1,SUM(P42:R42)>0),SUM(P42:R42),\"\")","v":""},{"$f":"IF(C42=1,S42-T42,\"\")","v":""}]
[null,{"$f":"[1]Leden!A39","v":38},null,{"$f":"IF([1]Leden!B39=0,\"\",[1]Leden!B39)","v":"Antonio"},{"$f":"IF([1]Leden!C39=0,\"\",[1]Leden!C39)","v":""},{"$f":"IF([1]Leden!D39=0,\"\",[1]Leden!D39)","v":"Mauro"},null,"-",null,null,"-",null,null,"-",null,{"$f":"IF(G43>I43,1,0)","v":0},{"$f":"IF(J43>L43,1,0)","v":0},{"$f":"IF(M43>O43,1,0)","v":0},{"$f":"IF(C43=1,G43+J43+M43,0)","v":0},{"$f":"IF(C43=1,I43+L43+O43,\"\")","v":""},{"$f":"IF(AND(C43=1,SUM(P43:R43)>0),SUM(P43:R43),\"\")","v":""},{"$f":"IF(C43=1,S43-T43,\"\")","v":""}]
[null,{"$f":"[1]Leden!A40","v":39},null,{"$f":"IF([1]Leden!B40=0,\"\",[1]Leden!B40)","v":"Louise"},{"$f":"IF([1]Leden!C40=0,\"\",[1]Leden!C40)","v":""},{"$f":"IF([1]Leden!D40=0,\"\",[1]Leden!D40)","v":"Mauro"},null,"-",null,null,"-",null,null,"-",null,{"$f":"IF(G44>I44,1,0)","v":0},{"$f":"IF(J44>L44,1,0)","v":0},{"$f":"IF(M44>O44,1,0)","v":0},{"$f":"IF(C44=1,G44+J44+M44,0)","v":0},{"$f":"IF(C44=1,I44+L44+O44,\"\")","v":""},{"$f":"IF(AND(C44=1,SUM(P44:R44)>0),SUM(P44:R44),\"\")","v":""},{"$f":"IF(C44=1,S44-T44,\"\")","v":""}]
[null,{"$f":"[1]Leden!A41","v":40},null,{"$f":"IF([1]Leden!B41=0,\"\",[1]Leden!B41)","v":"Henk"},{"$f":"IF([1]Leden!C41=0,\"\",[1]Leden!C41)","v":""},{"$f":"IF([1]Leden!D41=0,\"\",[1]Leden!D41)","v":"Mijnster"},null,"-",null,null,"-",null,null,"-",null,{"$f":"IF(G45>I45,1,0)","v":0},{"$f":"IF(J45>L45,1,0)","v":0},{"$f":"IF(M45>O45,1,0)","v":0},{"$f":"IF(C45=1,G45+J45+M45,0)","v":0},{"$f":"IF(C45=1,I45+L45+O45,\"\")","v":""},{"$f":"IF(AND(C45=1,SUM(P45:R45)>0),SUM(P45:R45),\"\")","v":""},{"$f":"IF(C45=1,S45-T45,\"\")","v":""}]
[null,{"$f":"[1]Leden!A42","v":41},null,{"$f":"IF([1]Leden!B42=0,\"\",[1]Leden!B42)","v":"Meindert"},{"$f":"IF([1]Leden!C42=0,\"\",[1]Leden!C42)","v":""},{"$f":"IF([1]Leden!D42=0,\"\",[1]Leden!D42)","v":"Minnema"},null,"-",null,null,"-",null,null,"-",null,{"$f":"IF(G46>I46,1,0)","v":0},{"$f":"IF(J46>L46,1,0)","v":0},{"$f":"IF(M46>O46,1,0)","v":0},{"$f":"IF(C46=1,G46+J46+M46,0)","v":0},{"$f":"IF(C46=1,I46+L46+O46,\"\")","v":""},{"$f":"IF(AND(C46=1,SUM(P46:R46)>0),SUM(P46:R46),\"\")","v":""},{"$f":"IF(C46=1,S46-T46,\"\")","v":""}]
[null,{"$f":"[1]Leden!A43","v":42},null,{"$f":"IF([1]Leden!B43=0,\"\",[1]Leden!B43)","v":"Cora"},{"$f":"IF([1]Leden!C43=0,\"\",[1]Leden!C43)","v":"van"},{"$f":"IF([1]Leden!D43=0,\"\",[1]Leden!D43)","v":"Nimwegen"},null,"-",null,null,"-",null,null,"-",null,{"$f":"IF(G47>I47,1,0)","v":0},{"$f":"IF(J47>L47,1,0)","v":0},{"$f":"IF(M47>O47,1,0)","v":0},{"$f":"IF(C47=1,G47+J47+M47,0)","v":0},{"$f":"IF(C47=1,I47+L47+O47,\"\")","v":""},{"$f":"IF(AND(C47=1,SUM(P47:R47)>0),SUM(P47:R47),\"\")","v":""},{"$f":"IF(C47=1,S47-T47,\"\")","v":""}]
[null,{"$f":"[1]Leden!A45","v":44},null,{"$f":"IF([1]Leden!B45=0,\"\",[1]Leden!B45)","v":"Mark"},{"$f":"IF([1]Leden!C45=0,\"\",[1]Leden!C45)","v":""},{"$f":"IF([1]Leden!D45=0,\"\",[1]Leden!D45)","v":"Norbart"},null,"-",null,null,"-",null,null,"-",null,{"$f":"IF(G48>I48,1,0)","v":0},{"$f":"IF(J48>L48,1,0)","v":0},{"$f":"IF(M48>O48,1,0)","v":0},{"$f":"IF(C48=1,G48+J48+M48,0)","v":0},{"$f":"IF(C48=1,I48+L48+O48,\"\")","v":""},{"$f":"IF(AND(C48=1,SUM(P48:R48)>0),SUM(P48:R48),\"\")","v":""},{"$f":"IF(C48=1,S48-T48,\"\")","v":""}]
[null,{"$f":"[1]Leden!A46","v":45},null,{"$f":"IF([1]Leden!B46=0,\"\",[1]Leden!B46)","v":"Jos"},{"$f":"IF([1]Leden!C46=0,\"\",[1]Leden!C46)","v":"van"},{"$f":"IF([1]Leden!D46=0,\"\",[1]Leden!D46)","v":"Oostrum"},null,"-",null,null,"-",null,null,"-",null,{"$f":"IF(G49>I49,1,0)","v":0},{"$f":"IF(J49>L49,1,0)","v":0},{"$f":"IF(M49>O49,1,0)","v":0},{"$f":"IF(C49=1,G49+J49+M49,0)","v":0},{"$f":"IF(C49=1,I49+L49+O49,\"\")","v":""},{"$f":"IF(AND(C49=1,SUM(P49:R49)>0),SUM(P49:R49),\"\")","v":""},{"$f":"IF(C49=1,S49-T49,\"\")","v":""}]
[null,{"$f":"[1]Leden!A47","v":46},null,{"$f":"IF([1]Leden!B47=0,\"\",[1]Leden!B47)","v":"Andrea"},{"$f":"IF([1]Leden!C47=0,\"\",[1]Leden!C47)","v":"van"},{"$f":"IF([1]Leden!D47=0,\"\",[1]Leden!D47)","v":"Osnabrugge"},null,"-",null,null,"-",null,null,"-",null,{"$f":"IF(G50>I50,1,0)","v":0},{"$f":"IF(J50>L50,1,0)","v":0},{"$f":"IF(M50>O50,1,0)","v":0},{"$f":"IF(C50=1,G50+J50+M50,0)","v":0},{"$f":"IF(C50=1,I50+L50+O50,\"\")","v":""},{"$f":"IF(AND(C50=1,SUM(P50:R50)>0),SUM(P50:R50),\"\")","v":""},{"$f":"IF(C50=1,S50-T50,\"\")","v":""}]
[null,{"$f":"[1]Leden!A48","v":47},null,{"$f":"IF([1]Leden!B48=0,\"\",[1]Leden!B48)","v":"Jan"},{"$f":"IF([1]Leden!C48=0,\"\",[1]Leden!C48)","v":"van"},{"$f":"IF([1]Leden!D48=0,\"\",[1]Leden!D48)","v":"Osnabrugge"},null,"-",null,null,"-",null,null,"-",null,{"$f":"IF(G51>I51,1,0)","v":0},{"$f":"IF(J51>L51,1,0)","v":0},{"$f":"IF(M51>O51,1,0)","v":0},{"$f":"IF(C51=1,G51+J51+M51,0)","v":0},{"$f":"IF(C51=1,I51+L51+O51,\"\")","v":""},{"$f":"IF(AND(C51=1,SUM(P51:R51)>0),SUM(P51:R51),\"\")","v":""},{"$f":"IF(C51=1,S51-T51,\"\")","v":""}]
[null,{"$f":"[1]Leden!A49","v":48},null,{"$f":"IF([1]Leden!B49=0,\"\",[1]Leden!B49)","v":"Mieke"},{"$f":"IF([1]Leden!C49=0,\"\",[1]Leden!C49)","v":"van"},{"$f":"IF([1]Leden!D49=0,\"\",[1]Leden!D49)","v":"Ravenswaay"},null,"-",null,null,"-",null,null,"-",null,{"$f":"IF(G52>I52,1,0)","v":0},{"$f":"IF(J52>L52,1,0)","v":0},{"$f":"IF(M52>O52,1,0)","v":0},{"$f":"IF(C52=1,G52+J52+M52,0)","v":0},{"$f":"IF(C52=1,I52+L52+O52,\"\")","v":""},{"$f":"IF(AND(C52=1,SUM(P52:R52)>0),SUM(P52:R52),\"\")","v":""},{"$f":"IF(C52=1,S52-T52,\"\")","v":""}]
[null,{"$f":"[1]Leden!A50","v":49},null,{"$f":"IF([1]Leden!B50=0,\"\",[1]Leden!B50)","v":"Ronald"},{"$f":"IF([1]Leden!C50=0,\"\",[1]Leden!C50)","v":"van"},{"$f":"IF([1]Leden!D50=0,\"\",[1]Leden!D50)","v":"Ree"},null,"-",null,null,"-",null,null,"-",null,{"$f":"IF(G53>I53,1,0)","v":0},{"$f":"IF(J53>L53,1,0)","v":0},{"$f":"IF(M53>O53,1,0)","v":0},{"$f":"IF(C53=1,G53+J53+M53,0)","v":0},{"$f":"IF(C53=1,I53+L53+O53,\"\")","v":""},{"$f":"IF(AND(C53=1,SUM(P53:R53)>0),SUM(P53:R53),\"\")","v":""},{"$f":"IF(C53=1,S53-T53,\"\")","v":""}]
[null,{"$f":"[1]Leden!A51","v":50},null,{"$f":"IF([1]Leden!B51=0,\"\",[1]Leden!B51)","v":"Tine"},{"$f":"IF([1]Leden!C51=0,\"\",[1]Leden!C51)","v":"van"},{"$f":"IF([1]Leden!D51=0,\"\",[1]Leden!D51)","v":"Ree"},null,"-",null,null,"-",null,null,"-",null,{"$f":"IF(G54>I54,1,0)","v":0},{"$f":"IF(J54>L54,1,0)","v":0},{"$f":"IF(M54>O54,1,0)","v":0},{"$f":"IF(C54=1,G54+J54+M54,0)","v":0},{"$f":"IF(C54=1,I54+L54+O54,\"\")","v":""},{"$f":"IF(AND(C54=1,SUM(P54:R54)>0),SUM(P54:R54),\"\")","v":""},{"$f":"IF(C54=1,S54-T54,\"\")","v":""}]
[null,{"$f":"[1]Leden!A52","v":51},null,{"$f":"IF([1]Leden!B52=0,\"\",[1]Leden!B52)","v":"Gerrit"},{"$f":"IF([1]Leden!C52=0,\"\",[1]Leden!C52)","v":""},{"$f":"IF([1]Leden!D52=0,\"\",[1]Leden!D52)","v":"Reinders"},null,"-",null,null,"-",null,null,"-",null,{"$f":"IF(G55>I55,1,0)","v":0},{"$f":"IF(J55>L55,1,0)","v":0},{"$f":"IF(M55>O55,1,0)","v":0},{"$f":"IF(C55=1,G55+J55+M55,0)","v":0},{"$f":"IF(C55=1,I55+L55+O55,\"\")","v":""},{"$f":"IF(AND(C55=1,SUM(P55:R55)>0),SUM(P55:R55),\"\")","v":""},{"$f":"IF(C55=1,S55-T55,\"\")","v":""}]
[null,{"$f":"[1]Leden!A53","v":52},null,{"$f":"IF([1]Leden!B53=0,\"\",[1]Leden!B53)","v":"Louis"},{"$f":"IF([1]Leden!C53=0,\"\",[1]Leden!C53)","v":"de"},{"$f":"IF([1]Leden!D53=0,\"\",[1]Leden!D53)","v":"Rijk"},null,"-",null,null,"-",null,null,"-",null,{"$f":"IF(G56>I56,1,0)","v":0},{"$f":"IF(J56>L56,1,0)","v":0},{"$f":"IF(M56>O56,1,0)","v":0},{"$f":"IF(C56=1,G56+J56+M56,0)","v":0},{"$f":"IF(C56=1,I56+L56+O56,\"\")","v":""},{"$f":"IF(AND(C56=1,SUM(P56:R56)>0),SUM(P56:R56),\"\")","v":""},{"$f":"IF(C56=1,S56-T56,\"\")","v":""}]
[null,{"$f":"[1]Leden!A54","v":53},null,{"$f":"IF([1]Leden!B54=0,\"\",[1]Leden!B54)","v":"Hein"},{"$f":"IF([1]Leden!C54=0,\"\",[1]Leden!C54)","v":"van"},{"$f":"IF([1]Leden!D54=0,\"\",[1]Leden!D54)","v":"Rijnsoever"},null,"-",null,null,"-",null,null,"-",null,{"$f":"IF(G57>I57,1,0)","v":0},{"$f":"IF(J57>L57,1,0)","v":0},{"$f":"IF(M57>O57,1,0)","v":0},{"$f":"IF(C57=1,G57+J57+M57,0)","v":0},{"$f":"IF(C57=1,I57+L57+O57,\"\")","v":""},{"$f":"IF(AND(C57=1,SUM(P57:R57)>0),SUM(P57:R57),\"\")","v":""},{"$f":"IF(C57=1,S57-T57,\"\")","v":""}]
[null,{"$f":"[1]Leden!A55","v":54},null,{"$f":"IF([1]Leden!B55=0,\"\",[1]Leden!B55)","v":"Wim"},{"$f":"IF([1]Leden!C55=0,\"\",[1]Leden!C55)","v":""},{"$f":"IF([1]Leden!D55=0,\"\",[1]Leden!D55)","v":"Rooseman"},null,"-",null,null,"-",null,null,"-",null,{"$f":"IF(G58>I58,1,0)","v":0},{"$f":"IF(J58>L58,1,0)","v":0},{"$f":"IF(M58>O58,1,0)","v":0},{"$f":"IF(C58=1,G58+J58+M58,0)","v":0},{"$f":"IF(C58=1,I58+L58+O58,\"\")","v":""},{"$f":"IF(AND(C58=1,SUM(P58:R58)>0),SUM(P58:R58),\"\")","v":""},{"$f":"IF(C58=1,S58-T58,\"\")","v":""}]
[null,{"$f":"[1]Leden!A56","v":55},null,{"$f":"IF([1]Leden!B56=0,\"\",[1]Leden!B56)","v":"Annemieke"},{"$f":"IF([1]Leden!C56=0,\"\",[1]Leden!C56)","v":""},{"$f":"IF([1]Leden!D56=0,\"\",[1]Leden!D56)","v":"Rothuizen"},null,"-",null,null,"-",null,null,"-",null,{"$f":"IF(G59>I59,1,0)","v":0},{"$f":"IF(J59>L59,1,0)","v":0},{"$f":"IF(M59>O59,1,0)","v":0},{"$f":"IF(C59=1,G59+J59+M59,0)","v":0},{"$f":"IF(C59=1,I59+L59+O59,\"\")","v":""},{"$f":"IF(AND(C59=1,SUM(P59:R59)>0),SUM(P59:R59),\"\")","v":""},{"$f":"IF(C59=1,S59-T59,\"\")","v":""}]
[null,{"$f":"[1]Leden!A57","v":56},null,{"$f":"IF([1]Leden!B57=0,\"\",[1]Leden!B57)","v":"Leo"},{"$f":"IF([1]Leden!C57=0,\"\",[1]Leden!C57)","v":""},{"$f":"IF([1]Leden!D57=0,\"\",[1]Leden!D57)","v":"Rusman"},null,"-",null,null,"-",null,null,"-",null,{"$f":"IF(G60>I60,1,0)","v":0},{"$f":"IF(J60>L60,1,0)","v":0},{"$f":"IF(M60>O60,1,0)","v":0},{"$f":"IF(C60=1,G60+J60+M60,0)","v":0},{"$f":"IF(C60=1,I60+L60+O60,\"\")","v":""},{"$f":"IF(AND(C60=1,SUM(P60:R60)>0),SUM(P60:R60),\"\")","v":""},{"$f":"IF(C60=1,S60-T60,\"\")","v":""}]
[null,{"$f":"[1]Leden!A58","v":57},null,{"$f":"IF([1]Leden!B58=0,\"\",[1]Leden!B58)","v":"Berty"},{"$f":"IF([1]Leden!C58=0,\"\",[1]Leden!C58)","v":"van"},{"$f":"IF([1]Leden!D58=0,\"\",[1]Leden!D58)","v":"Schaik"},null,"-",null,null,"-",null,null,"-",null,{"$f":"IF(G61>I61,1,0)","v":0},{"$f":"IF(J61>L61,1,0)","v":0},{"$f":"IF(M61>O61,1,0)","v":0},{"$f":"IF(C61=1,G61+J61+M61,0)","v":0},{"$f":"IF(C61=1,I61+L61+O61,\"\")","v":""},{"$f":"IF(AND(C61=1,SUM(P61:R61)>0),SUM(P61:R61),\"\")","v":""},{"$f":"IF(C61=1,S61-T61,\"\")","v":""}]
[null,{"$f":"[1]Leden!A59","v":58},null,{"$f":"IF([1]Leden!B59=0,\"\",[1]Leden!B59)","v":"Co"},{"$f":"IF([1]Leden!C59=0,\"\",[1]Leden!C59)","v":""},{"$f":"IF([1]Leden!D59=0,\"\",[1]Leden!D59)","v":"Suurmond"},null,"-",null,null,"-",null,null,"-",null,{"$f":"IF(G62>I62,1,0)","v":0},{"$f":"IF(J62>L62,1,0)","v":0},{"$f":"IF(M62>O62,1,0)","v":0},{"$f":"IF(C62=1,G62+J62+M62,0)","v":0},{"$f":"IF(C62=1,I62+L62+O62,\"\")","v":""},{"$f":"IF(AND(C62=1,SUM(P62:R62)>0),SUM(P62:R62),\"\")","v":""},{"$f":"IF(C62=1,S62-T62,\"\")","v":""}]
[null,{"$f":"[1]Leden!A60","v":59},null,{"$f":"IF([1]Leden!B60=0,\"\",[1]Leden!B60)","v":"Gerda"},{"$f":"IF([1]Leden!C60=0,\"\",[1]Leden!C60)","v":""},{"$f":"IF([1]Leden!D60=0,\"\",[1]Leden!D60)","v":"Suurmond"},null,"-",null,null,"-",null,null,"-",null,{"$f":"IF(G63>I63,1,0)","v":0},{"$f":"IF(J63>L63,1,0)","v":0},{"$f":"IF(M63>O63,1,0)","v":0},{"$f":"IF(C63=1,G63+J63+M63,0)","v":0},{"$f":"IF(C63=1,I63+L63+O63,\"\")","v":""},{"$f":"IF(AND(C63=1,SUM(P63:R63)>0),SUM(P63:R63),\"\")","v":""},{"$f":"IF(C63=1,S63-T63,\"\")","v":""}]
[null,{"$f":"[1]Leden!A61","v":60},null,{"$f":"IF([1]Leden!B61=0,\"\",[1]Leden!B61)","v":"Ron "},{"$f":"IF([1]Leden!C61=0,\"\",[1]Leden!C61)","v":""},{"$f":"IF([1]Leden!D61=0,\"\",[1]Leden!D61)","v":"Tielman"},null,"-",null,null,"-",null,null,"-",null,{"$f":"IF(G64>I64,1,0)","v":0},{"$f":"IF(J64>L64,1,0)","v":0},{"$f":"IF(M64>O64,1,0)","v":0},{"$f":"IF(C64=1,G64+J64+M64,0)","v":0},{"$f":"IF(C64=1,I64+L64+O64,\"\")","v":""},{"$f":"IF(AND(C64=1,SUM(P64:R64)>0),SUM(P64:R64),\"\")","v":""},{"$f":"IF(C64=1,S64-T64,\"\")","v":""}]
[null,{"$f":"[1]Leden!A63","v":62},null,{"$f":"IF([1]Leden!B63=0,\"\",[1]Leden!B63)","v":"Ton"},{"$f":"IF([1]Leden!C63=0,\"\",[1]Leden!C63)","v":"van"},{"$f":"IF([1]Leden!D63=0,\"\",[1]Leden!D63)","v":"Tuijl"},null,"-",null,null,"-",null,null,"-",null,{"$f":"IF(G65>I65,1,0)","v":0},{"$f":"IF(J65>L65,1,0)","v":0},{"$f":"IF(M65>O65,1,0)","v":0},{"$f":"IF(C65=1,G65+J65+M65,0)","v":0},{"$f":"IF(C65=1,I65+L65+O65,\"\")","v":""},{"$f":"IF(AND(C65=1,SUM(P65:R65)>0),SUM(P65:R65),\"\")","v":""},{"$f":"IF(C65=1,S65-T65,\"\")","v":""}]
[null,{"$f":"[1]Leden!A64","v":63},null,{"$f":"IF([1]Leden!B64=0,\"\",[1]Leden!B64)","v":"Corrien"},{"$f":"IF([1]Leden!C64=0,\"\",[1]Leden!C64)","v":""},{"$f":"IF([1]Leden!D64=0,\"\",[1]Leden!D64)","v":"Uiterwaal"},null,"-",null,null,"-",null,null,"-",null,{"$f":"IF(G66>I66,1,0)","v":0},{"$f":"IF(J66>L66,1,0)","v":0},{"$f":"IF(M66>O66,1,0)","v":0},{"$f":"IF(C66=1,G66+J66+M66,0)","v":0},{"$f":"IF(C66=1,I66+L66+O66,\"\")","v":""},{"$f":"IF(AND(C66=1,SUM(P66:R66)>0),SUM(P66:R66),\"\")","v":""},{"$f":"IF(C66=1,S66-T66,\"\")","v":""}]
[null,{"$f":"[1]Leden!A65","v":64},null,{"$f":"IF([1]Leden!B65=0,\"\",[1]Leden!B65)","v":"Rob"},{"$f":"IF([1]Leden!C65=0,\"\",[1]Leden!C65)","v":"van"},{"$f":"IF([1]Leden!D65=0,\"\",[1]Leden!D65)","v":"Veen"},null,"-",null,null,"-",null,null,"-",null,{"$f":"IF(G67>I67,1,0)","v":0},{"$f":"IF(J67>L67,1,0)","v":0},{"$f":"IF(M67>O67,1,0)","v":0},{"$f":"IF(C67=1,G67+J67+M67,0)","v":0},{"$f":"IF(C67=1,I67+L67+O67,\"\")","v":""},{"$f":"IF(AND(C67=1,SUM(P67:R67)>0),SUM(P67:R67),\"\")","v":""},{"$f":"IF(C67=1,S67-T67,\"\")","v":""}]
[null,{"$f":"[1]Leden!A66","v":65},null,{"$f":"IF([1]Leden!B66=0,\"\",[1]Leden!B66)","v":"Ab"},{"$f":"IF([1]Leden!C66=0,\"\",[1]Leden!C66)","v":"van der "},{"$f":"IF([1]Leden!D66=0,\"\",[1]Leden!D66)","v":"Velde"},null,"-",null,null,"-",null,null,"-",null,{"$f":"IF(G68>I68,1,0)","v":0},{"$f":"IF(J68>L68,1,0)","v":0},{"$f":"IF(M68>O68,1,0)","v":0},{"$f":"IF(C68=1,G68+J68+M68,0)","v":0},{"$f":"IF(C68=1,I68+L68+O68,\"\")","v":""},{"$f":"IF(AND(C68=1,SUM(P68:R68)>0),SUM(P68:R68),\"\")","v":""},{"$f":"IF(C68=1,S68-T68,\"\")","v":""}]
[null,{"$f":"[1]Leden!A67","v":66},null,{"$f":"IF([1]Leden!B67=0,\"\",[1]Leden!B67)","v":"Gerrie"},{"$f":"IF([1]Leden!C67=0,\"\",[1]Leden!C67)","v":""},{"$f":"IF([1]Leden!D67=0,\"\",[1]Leden!D67)","v":"Verheul"},null,"-",null,null,"-",null,null,"-",null,{"$f":"IF(G69>I69,1,0)","v":0},{"$f":"IF(J69>L69,1,0)","v":0},{"$f":"IF(M69>O69,1,0)","v":0},{"$f":"IF(C69=1,G69+J69+M69,0)","v":0},{"$f":"IF(C69=1,I69+L69+O69,\"\")","v":""},{"$f":"IF(AND(C69=1,SUM(P69:R69)>0),SUM(P69:R69),\"\")","v":""},{"$f":"IF(C69=1,S69-T69,\"\")","v":""}]
[null,{"$f":"[1]Leden!A68","v":67},null,{"$f":"IF([1]Leden!B68=0,\"\",[1]Leden!B68)","v":"Job"},{"$f":"IF([1]Leden!C68=0,\"\",[1]Leden!C68)","v":""},{"$f":"IF([1]Leden!D68=0,\"\",[1]Leden!D68)","v":"Westening"},null,"-",null,null,"-",null,null,"-",null,{"$f":"IF(G70>I70,1,0)","v":0},{"$f":"IF(J70>L70,1,0)","v":0},{"$f":"IF(M70>O70,1,0)","v":0},{"$f":"IF(C70=1,G70+J70+M70,0)","v":0},{"$f":"IF(C70=1,I70+L70+O70,\"\")","v":""},{"$f":"IF(AND(C70=1,SUM(P70:R70)>0),SUM(P70:R70),\"\")","v":""},{"$f":"IF(C70=1,S70-T70,\"\")","v":""}]
[null,{"$f":"[1]Leden!A69","v":68},null,{"$f":"IF([1]Leden!B69=0,\"\",[1]Leden!B69)","v":"Corrie"},{"$f":"IF([1]Leden!C69=0,\"\",[1]Leden!C69)","v":"de"},{"$f":"IF([1]Leden!D69=0,\"\",[1]Leden!D69)","v":"Wilde"},null,"-",null,null,"-",null,null,"-",null,{"$f":"IF(G71>I71,1,0)","v":0},{"$f":"IF(J71>L71,1,0)","v":0},{"$f":"IF(M71>O71,1,0)","v":0},{"$f":"IF(C71=1,G71+J71+M71,0)","v":0},{"$f":"IF(C71=1,I71+L71+O71,\"\")","v":""},{"$f":"IF(AND(C71=1,SUM(P71:R71)>0),SUM(P71:R71),\"\")","v":""},{"$f":"IF(C71=1,S71-T71,\"\")","v":""}]
[null,{"$f":"[1]Leden!A70","v":69},null,{"$f":"IF([1]Leden!B70=0,\"\",[1]Leden!B70)","v":"Frans"},{"$f":"IF([1]Leden!C70=0,\"\",[1]Leden!C70)","v":"de"},{"$f":"IF([1]Leden!D70=0,\"\",[1]Leden!D70)","v":"Wilde"},null,"-",null,null,"-",null,null,"-",null,{"$f":"IF(G72>I72,1,0)","v":0},{"$f":"IF(J72>L72,1,0)","v":0},{"$f":"IF(M72>O72,1,0)","v":0},{"$f":"IF(C72=1,G72+J72+M72,0)","v":0},{"$f":"IF(C72=1,I72+L72+O72,\"\")","v":""},{"$f":"IF(AND(C72=1,SUM(P72:R72)>0),SUM(P72:R72),\"\")","v":""},{"$f":"IF(C72=1,S72-T72,\"\")","v":""}]
[null,{"$f":"[1]Leden!A71","v":70},null,{"$f":"IF([1]Leden!B71=0,\"\",[1]Leden!B71)","v":"Charles"},{"$f":"IF([1]Leden!C71=0,\"\",[1]Leden!C71)","v":""},{"$f":"IF([1]Leden!D71=0,\"\",[1]Leden!D71)","v":"Winkels"},null,"-",null,null,"-",null,null,"-",null,{"$f":"IF(G73>I73,1,0)","v":0},{"$f":"IF(J73>L73,1,0)","v":0},{"$f":"IF(M73>O73,1,0)","v":0},{"$f":"IF(C73=1,G73+J73+M73,0)","v":0},{"$f":"IF(C73=1,I73+L73+O73,\"\")","v":""},{"$f":"IF(AND(C73=1,SUM(P73:R73)>0),SUM(P73:R73),\"\")","v":""},{"$f":"IF(C73=1,S73-T73,\"\")","v":""}]
[null,{"$f":"[1]Leden!A72","v":71},null,{"$f":"IF([1]Leden!B72=0,\"\",[1]Leden!B72)","v":"Coby"},{"$f":"IF([1]Leden!C72=0,\"\",[1]Leden!C72)","v":"van der "},{"$f":"IF([1]Leden!D72=0,\"\",[1]Leden!D72)","v":"Wooning"},null,"-",null,null,"-",null,null,"-",null,{"$f":"IF(G74>I74,1,0)","v":0},{"$f":"IF(J74>L74,1,0)","v":0},{"$f":"IF(M74>O74,1,0)","v":0},{"$f":"IF(C74=1,G74+J74+M74,0)","v":0},{"$f":"IF(C74=1,I74+L74+O74,\"\")","v":""},{"$f":"IF(AND(C74=1,SUM(P74:R74)>0),SUM(P74:R74),\"\")","v":""},{"$f":"IF(C74=1,S74-T74,\"\")","v":""}]
[null,{"$f":"[1]Leden!A74","v":73},null,{"$f":"IF([1]Leden!B74=0,\"\",[1]Leden!B74)","v":"Gerard"},{"$f":"IF([1]Leden!C74=0,\"\",[1]Leden!C74)","v":""},{"$f":"IF([1]Leden!D74=0,\"\",[1]Leden!D74)","v":"Woutersen"},null,"-",null,null,"-",null,null,"-",null,{"$f":"IF(G75>I75,1,0)","v":0},{"$f":"IF(J75>L75,1,0)","v":0},{"$f":"IF(M75>O75,1,0)","v":0},{"$f":"IF(C75=1,G75+J75+M75,0)","v":0},{"$f":"IF(C75=1,I75+L75+O75,\"\")","v":""},{"$f":"IF(AND(C75=1,SUM(P75:R75)>0),SUM(P75:R75),\"\")","v":""},{"$f":"IF(C75=1,S75-T75,\"\")","v":""}]
[null,{"$f":"[1]Leden!A75","v":74},null,{"$f":"IF([1]Leden!B75=0,\"\",[1]Leden!B75)","v":"Pietie"},{"$f":"IF([1]Leden!C75=0,\"\",[1]Leden!C75)","v":""},{"$f":"IF([1]Leden!D75=0,\"\",[1]Leden!D75)","v":"Woutersen"},null,"-",null,null,"-",null,null,"-",null,{"$f":"IF(G76>I76,1,0)","v":0},{"$f":"IF(J76>L76,1,0)","v":0},{"$f":"IF(M76>O76,1,0)","v":0},{"$f":"IF(C76=1,G76+J76+M76,0)","v":0},{"$f":"IF(C76=1,I76+L76+O76,\"\")","v":""},{"$f":"IF(AND(C76=1,SUM(P76:R76)>0),SUM(P76:R76),\"\")","v":""},{"$f":"IF(C76=1,S76-T76,\"\")","v":""}]
[null,{"$f":"[1]Leden!A76","v":75},null,{"$f":"IF([1]Leden!B76=0,\"\",[1]Leden!B76)","v":""},{"$f":"IF([1]Leden!C76=0,\"\",[1]Leden!C76)","v":""},{"$f":"IF([1]Leden!D76=0,\"\",[1]Leden!D76)","v":""},null,"-",null,null,"-",null,null,"-",null,{"$f":"IF(G77>I77,1,0)","v":0},{"$f":"IF(J77>L77,1,0)","v":0},{"$f":"IF(M77>O77,1,0)","v":0},{"$f":"IF(C77=1,G77+J77+M77,0)","v":0},{"$f":"IF(C77=1,I77+L77+O77,\"\")","v":""},{"$f":"IF(AND(C77=1,SUM(P77:R77)>0),SUM(P77:R77),\"\")","v":""},{"$f":"IF(C77=1,S77-T77,\"\")","v":""}]
[null,{"$f":"[1]Leden!A77","v":76},null,{"$f":"IF([1]Leden!B77=0,\"\",[1]Leden!B77)","v":""},{"$f":"IF([1]Leden!C77=0,\"\",[1]Leden!C77)","v":""},{"$f":"IF([1]Leden!D77=0,\"\",[1]Leden!D77)","v":""},null,"-",null,null,"-",null,null,"-",null,{"$f":"IF(G78>I78,1,0)","v":0},{"$f":"IF(J78>L78,1,0)","v":0},{"$f":"IF(M78>O78,1,0)","v":0},{"$f":"IF(C78=1,G78+J78+M78,0)","v":0},{"$f":"IF(C78=1,I78+L78+O78,\"\")","v":""},{"$f":"IF(AND(C78=1,SUM(P78:R78)>0),SUM(P78:R78),\"\")","v":""},{"$f":"IF(C78=1,S78-T78,\"\")","v":""}]
[null,{"$f":"[1]Leden!A78","v":77},null,{"$f":"IF([1]Leden!B78=0,\"\",[1]Leden!B78)","v":""},{"$f":"IF([1]Leden!C78=0,\"\",[1]Leden!C78)","v":""},{"$f":"IF([1]Leden!D78=0,\"\",[1]Leden!D78)","v":""},null,"-",null,null,"-",null,null,"-",null,{"$f":"IF(G79>I79,1,0)","v":0},{"$f":"IF(J79>L79,1,0)","v":0},{"$f":"IF(M79>O79,1,0)","v":0},{"$f":"IF(C79=1,G79+J79+M79,0)","v":0},{"$f":"IF(C79=1,I79+L79+O79,\"\")","v":""},{"$f":"IF(AND(C79=1,SUM(P79:R79)>0),SUM(P79:R79),\"\")","v":""},{"$f":"IF(C79=1,S79-T79,\"\")","v":""}]
[null,{"$f":"[1]Leden!A79","v":78},null,{"$f":"IF([1]Leden!B79=0,\"\",[1]Leden!B79)","v":""},{"$f":"IF([1]Leden!C79=0,\"\",[1]Leden!C79)","v":""},{"$f":"IF([1]Leden!D79=0,\"\",[1]Leden!D79)","v":""},null,"-",null,null,"-",null,null,"-",null,{"$f":"IF(G80>I80,1,0)","v":0},{"$f":"IF(J80>L80,1,0)","v":0},{"$f":"IF(M80>O80,1,0)","v":0},{"$f":"IF(C80=1,G80+J80+M80,0)","v":0},{"$f":"IF(C80=1,I80+L80+O80,\"\")","v":""},{"$f":"IF(AND(C80=1,SUM(P80:R80)>0),SUM(P80:R80),\"\")","v":""},{"$f":"IF(C80=1,S80-T80,\"\")","v":""}]
[null,{"$f":"[1]Leden!A80","v":79},null,{"$f":"IF([1]Leden!B80=0,\"\",[1]Leden!B80)","v":""},{"$f":"IF([1]Leden!C80=0,\"\",[1]Leden!C80)","v":""},{"$f":"IF([1]Leden!D80=0,\"\",[1]Leden!D80)","v":""},null,"-",null,null,"-",null,null,"-",null,{"$f":"IF(G81>I81,1,0)","v":0},{"$f":"IF(J81>L81,1,0)","v":0},{"$f":"IF(M81>O81,1,0)","v":0},{"$f":"IF(C81=1,G81+J81+M81,0)","v":0},{"$f":"IF(C81=1,I81+L81+O81,\"\")","v":""},{"$f":"IF(AND(C81=1,SUM(P81:R81)>0),SUM(P81:R81),\"\")","v":""},{"$f":"IF(C81=1,S81-T81,\"\")","v":""}]
[null,{"$f":"[1]Leden!A81","v":80},null,{"$f":"IF([1]Leden!B81=0,\"\",[1]Leden!B81)","v":""},{"$f":"IF([1]Leden!C81=0,\"\",[1]Leden!C81)","v":""},{"$f":"IF([1]Leden!D81=0,\"\",[1]Leden!D81)","v":""},null,"-",null,null,"-",null,null,"-",null,{"$f":"IF(G82>I82,1,0)","v":0},{"$f":"IF(J82>L82,1,0)","v":0},{"$f":"IF(M82>O82,1,0)","v":0},{"$f":"IF(C82=1,G82+J82+M82,0)","v":0},{"$f":"IF(C82=1,I82+L82+O82,\"\")","v":""},{"$f":"IF(AND(C82=1,SUM(P82:R82)>0),SUM(P82:R82),\"\")","v":""},{"$f":"IF(C82=1,S82-T82,\"\")","v":""}]
[null,{"$f":"[1]Leden!A82","v":81},null,{"$f":"IF([1]Leden!B82=0,\"\",[1]Leden!B82)","v":""},{"$f":"IF([1]Leden!C82=0,\"\",[1]Leden!C82)","v":""},{"$f":"IF([1]Leden!D82=0,\"\",[1]Leden!D82)","v":""},null,"-",null,null,"-",null,null,"-",null,{"$f":"IF(G83>I83,1,0)","v":0},{"$f":"IF(J83>L83,1,0)","v":0},{"$f":"IF(M83>O83,1,0)","v":0},{"$f":"IF(C83=1,G83+J83+M83,0)","v":0},{"$f":"IF(C83=1,I83+L83+O83,\"\")","v":""},{"$f":"IF(AND(C83=1,SUM(P83:R83)>0),SUM(P83:R83),\"\")","v":""},{"$f":"IF(C83=1,S83-T83,\"\")","v":""}]
[null,{"$f":"[1]Leden!A83","v":82},null,{"$f":"IF([1]Leden!B83=0,\"\",[1]Leden!B83)","v":""},{"$f":"IF([1]Leden!C83=0,\"\",[1]Leden!C83)","v":""},{"$f":"IF([1]Leden!D83=0,\"\",[1]Leden!D83)","v":""},null,"-",null,null,"-",null,null,"-",null,{"$f":"IF(G84>I84,1,0)","v":0},{"$f":"IF(J84>L84,1,0)","v":0},{"$f":"IF(M84>O84,1,0)","v":0},{"$f":"IF(C84=1,G84+J84+M84,0)","v":0},{"$f":"IF(C84=1,I84+L84+O84,\"\")","v":""},{"$f":"IF(AND(C84=1,SUM(P84:R84)>0),SUM(P84:R84),\"\")","v":""},{"$f":"IF(C84=1,S84-T84,\"\")","v":""}]
[null,{"$f":"[1]Leden!A84","v":83},null,{"$f":"IF([1]Leden!B84=0,\"\",[1]Leden!B84)","v":""},{"$f":"IF([1]Leden!C84=0,\"\",[1]Leden!C84)","v":""},{"$f":"IF([1]Leden!D84=0,\"\",[1]Leden!D84)","v":""},null,"-",null,null,"-",null,null,"-",null,{"$f":"IF(G85>I85,1,0)","v":0},{"$f":"IF(J85>L85,1,0)","v":0},{"$f":"IF(M85>O85,1,0)","v":0},{"$f":"IF(C85=1,G85+J85+M85,0)","v":0},{"$f":"IF(C85=1,I85+L85+O85,\"\")","v":""},{"$f":"IF(AND(C85=1,SUM(P85:R85)>0),SUM(P85:R85),\"\")","v":""},{"$f":"IF(C85=1,S85-T85,\"\")","v":""}]
[null,{"$f":"[1]Leden!A85","v":84},null,{"$f":"IF([1]Leden!B85=0,\"\",[1]Leden!B85)","v":""},{"$f":"IF([1]Leden!C85=0,\"\",[1]Leden!C85)","v":""},{"$f":"IF([1]Leden!D85=0,\"\",[1]Leden!D85)","v":""},null,"-",null,null,"-",null,null,"-",null,{"$f":"IF(G86>I86,1,0)","v":0},{"$f":"IF(J86>L86,1,0)","v":0},{"$f":"IF(M86>O86,1,0)","v":0},{"$f":"IF(C86=1,G86+J86+M86,0)","v":0},{"$f":"IF(C86=1,I86+L86+O86,\"\")","v":""},{"$f":"IF(AND(C86=1,SUM(P86:R86)>0),SUM(P86:R86),\"\")","v":""},{"$f":"IF(C86=1,S86-T86,\"\")","v":""}]
[null,{"$f":"[1]Leden!A86","v":85},null,{"$f":"IF([1]Leden!B86=0,\"\",[1]Leden!B86)","v":""},{"$f":"IF([1]Leden!C86=0,\"\",[1]Leden!C86)","v":""},{"$f":"IF([1]Leden!D86=0,\"\",[1]Leden!D86)","v":""},null,"-",null,null,"-",null,null,"-",null,{"$f":"IF(G87>I87,1,0)","v":0},{"$f":"IF(J87>L87,1,0)","v":0},{"$f":"IF(M87>O87,1,0)","v":0},{"$f":"IF(C87=1,G87+J87+M87,0)","v":0},{"$f":"IF(C87=1,I87+L87+O87,\"\")","v":""},{"$f":"IF(AND(C87=1,SUM(P87:R87)>0),SUM(P87:R87),\"\")","v":""},{"$f":"IF(C87=1,S87-T87,\"\")","v":""}]
[null,{"$f":"[1]Leden!A87","v":86},null,{"$f":"IF([1]Leden!B87=0,\"\",[1]Leden!B87)","v":""},{"$f":"IF([1]Leden!C87=0,\"\",[1]Leden!C87)","v":""},{"$f":"IF([1]Leden!D87=0,\"\",[1]Leden!D87)","v":""},null,"-",null,null,"-",null,null,"-",null,{"$f":"IF(G88>I88,1,0)","v":0},{"$f":"IF(J88>L88,1,0)","v":0},{"$f":"IF(M88>O88,1,0)","v":0},{"$f":"IF(C88=1,G88+J88+M88,0)","v":0},{"$f":"IF(C88=1,I88+L88+O88,\"\")","v":""},{"$f":"IF(AND(C88=1,SUM(P88:R88)>0),SUM(P88:R88),\"\")","v":""},{"$f":"IF(C88=1,S88-T88,\"\")","v":""}]
[null,{"$f":"[1]Leden!A88","v":87},null,{"$f":"IF([1]Leden!B88=0,\"\",[1]Leden!B88)","v":""},{"$f":"IF([1]Leden!C88=0,\"\",[1]Leden!C88)","v":""},{"$f":"IF([1]Leden!D88=0,\"\",[1]Leden!D88)","v":""},null,"-",null,null,"-",null,null,"-",null,{"$f":"IF(G89>I89,1,0)","v":0},{"$f":"IF(J89>L89,1,0)","v":0},{"$f":"IF(M89>O89,1,0)","v":0},{"$f":"IF(C89=1,G89+J89+M89,0)","v":0},{"$f":"IF(C89=1,I89+L89+O89,\"\")","v":""},{"$f":"IF(AND(C89=1,SUM(P89:R89)>0),SUM(P89:R89),\"\")","v":""},{"$f":"IF(C89=1,S89-T89,\"\")","v":""}]
[null,{"$f":"[1]Leden!A89","v":88},null,{"$f":"IF([1]Leden!B89=0,\"\",[1]Leden!B89)","v":""},{"$f":"IF([1]Leden!C89=0,\"\",[1]Leden!C89)","v":""},{"$f":"IF([1]Leden!D89=0,\"\",[1]Leden!D89)","v":""},null,"-",null,null,"-",null,null,"-",null,{"$f":"IF(G90>I90,1,0)","v":0},{"$f":"IF(J90>L90,1,0)","v":0},{"$f":"IF(M90>O90,1,0)","v":0},{"$f":"IF(C90=1,G90+J90+M90,0)","v":0},{"$f":"IF(C90=1,I90+L90+O90,\"\")","v":""},{"$f":"IF(AND(C90=1,SUM(P90:R90)>0),SUM(P90:R90),\"\")","v":""},{"$f":"IF(C90=1,S90-T90,\"\")","v":""}]
[null,{"$f":"[1]Leden!A90","v":89},null,{"$f":"IF([1]Leden!B90=0,\"\",[1]Leden!B90)","v":""},{"$f":"IF([1]Leden!C90=0,\"\",[1]Leden!C90)","v":""},{"$f":"IF([1]Leden!D90=0,\"\",[1]Leden!D90)","v":""},null,"-",null,null,"-",null,null,"-",null,{"$f":"IF(G91>I91,1,0)","v":0},{"$f":"IF(J91>L91,1,0)","v":0},{"$f":"IF(M91>O91,1,0)","v":0},{"$f":"IF(C91=1,G91+J91+M91,0)","v":0},{"$f":"IF(C91=1,I91+L91+O91,\"\")","v":""},{"$f":"IF(AND(C91=1,SUM(P91:R91)>0),SUM(P91:R91),\"\")","v":""},{"$f":"IF(C91=1,S91-T91,\"\")","v":""}]
[null,{"$f":"[1]Leden!A91","v":90},null,{"$f":"IF([1]Leden!B91=0,\"\",[1]Leden!B91)","v":""},{"$f":"IF([1]Leden!C91=0,\"\",[1]Leden!C91)","v":""},{"$f":"IF([1]Leden!D91=0,\"\",[1]Leden!D91)","v":""},null,"-",null,null,"-",null,null,"-",null,{"$f":"IF(G92>I92,1,0)","v":0},{"$f":"IF(J92>L92,1,0)","v":0},{"$f":"IF(M92>O92,1,0)","v":0},{"$f":"IF(C92=1,G92+J92+M92,0)","v":0},{"$f":"IF(C92=1,I92+L92+O92,\"\")","v":""},{"$f":"IF(AND(C92=1,SUM(P92:R92)>0),SUM(P92:R92),\"\")","v":""},{"$f":"IF(C92=1,S92-T92,\"\")","v":""}]
[null,{"$f":"[1]Leden!A92","v":91},null,{"$f":"IF([1]Leden!B92=0,\"\",[1]Leden!B92)","v":""},{"$f":"IF([1]Leden!C92=0,\"\",[1]Leden!C92)","v":""},{"$f":"IF([1]Leden!D92=0,\"\",[1]Leden!D92)","v":""},null,"-",null,null,"-",null,null,"-",null,{"$f":"IF(G93>I93,1,0)","v":0},{"$f":"IF(J93>L93,1,0)","v":0},{"$f":"IF(M93>O93,1,0)","v":0},{"$f":"IF(C93=1,G93+J93+M93,0)","v":0},{"$f":"IF(C93=1,I93+L93+O93,\"\")","v":""},{"$f":"IF(AND(C93=1,SUM(P93:R93)>0),SUM(P93:R93),\"\")","v":""},{"$f":"IF(C93=1,S93-T93,\"\")","v":""}]
[null,{"$f":"[1]Leden!A93","v":92},null,{"$f":"IF([1]Leden!B93=0,\"\",[1]Leden!B93)","v":""},{"$f":"IF([1]Leden!C93=0,\"\",[1]Leden!C93)","v":""},{"$f":"IF([1]Leden!D93=0,\"\",[1]Leden!D93)","v":""},null,"-",null,null,"-",null,null,"-",null,{"$f":"IF(G94>I94,1,0)","v":0},{"$f":"IF(J94>L94,1,0)","v":0},{"$f":"IF(M94>O94,1,0)","v":0},{"$f":"IF(C94=1,G94+J94+M94,0)","v":0},{"$f":"IF(C94=1,I94+L94+O94,\"\")","v":""},{"$f":"IF(AND(C94=1,SUM(P94:R94)>0),SUM(P94:R94),\"\")","v":""},{"$f":"IF(C94=1,S94-T94,\"\")","v":""}]
[null,{"$f":"[1]Leden!A94","v":93},null,{"$f":"IF([1]Leden!B94=0,\"\",[1]Leden!B94)","v":""},{"$f":"IF([1]Leden!C94=0,\"\",[1]Leden!C94)","v":""},{"$f":"IF([1]Leden!D94=0,\"\",[1]Leden!D94)","v":""},null,"-",null,null,"-",null,null,"-",null,{"$f":"IF(G95>I95,1,0)","v":0},{"$f":"IF(J95>L95,1,0)","v":0},{"$f":"IF(M95>O95,1,0)","v":0},{"$f":"IF(C95=1,G95+J95+M95,0)","v":0},{"$f":"IF(C95=1,I95+L95+O95,\"\")","v":""},{"$f":"IF(AND(C95=1,SUM(P95:R95)>0),SUM(P95:R95),\"\")","v":""},{"$f":"IF(C95=1,S95-T95,\"\")","v":""}]
[null,{"$f":"[1]Leden!A95","v":94},null,{"$f":"IF([1]Leden!B95=0,\"\",[1]Leden!B95)","v":""},{"$f":"IF([1]Leden!C95=0,\"\",[1]Leden!C95)","v":""},{"$f":"IF([1]Leden!D95=0,\"\",[1]Leden!D95)","v":""},null,"-",null,null,"-",null,null,"-",null,{"$f":"IF(G96>I96,1,0)","v":0},{"$f":"IF(J96>L96,1,0)","v":0},{"$f":"IF(M96>O96,1,0)","v":0},{"$f":"IF(C96=1,G96+J96+M96,0)","v":0},{"$f":"IF(C96=1,I96+L96+O96,\"\")","v":""},{"$f":"IF(AND(C96=1,SUM(P96:R96)>0),SUM(P96:R96),\"\")","v":""},{"$f":"IF(C96=1,S96-T96,\"\")","v":""}]
[null,{"$f":"[1]Leden!A96","v":95},null,{"$f":"IF([1]Leden!B96=0,\"\",[1]Leden!B96)","v":""},{"$f":"IF([1]Leden!C96=0,\"\",[1]Leden!C96)","v":""},{"$f":"IF([1]Leden!D96=0,\"\",[1]Leden!D96)","v":""},null,"-",null,null,"-",null,null,"-",null,{"$f":"IF(G97>I97,1,0)","v":0},{"$f":"IF(J97>L97,1,0)","v":0},{"$f":"IF(M97>O97,1,0)","v":0},{"$f":"IF(C97=1,G97+J97+M97,0)","v":0},{"$f":"IF(C97=1,I97+L97+O97,\"\")","v":""},{"$f":"IF(AND(C97=1,SUM(P97:R97)>0),SUM(P97:R97),\"\")","v":""},{"$f":"IF(C97=1,S97-T97,\"\")","v":""}]
[null,{"$f":"[1]Leden!A97","v":96},null,{"$f":"IF([1]Leden!B97=0,\"\",[1]Leden!B97)","v":""},{"$f":"IF([1]Leden!C97=0,\"\",[1]Leden!C97)","v":""},{"$f":"IF([1]Leden!D97=0,\"\",[1]Leden!D97)","v":""},null,"-",null,null,"-",null,null,"-",null,{"$f":"IF(G98>I98,1,0)","v":0},{"$f":"IF(J98>L98,1,0)","v":0},{"$f":"IF(M98>O98,1,0)","v":0},{"$f":"IF(C98=1,G98+J98+M98,0)","v":0},{"$f":"IF(C98=1,I98+L98+O98,\"\")","v":""},{"$f":"IF(AND(C98=1,SUM(P98:R98)>0),SUM(P98:R98),\"\")","v":""},{"$f":"IF(C98=1,S98-T98,\"\")","v":""}]
[null,{"$f":"[1]Leden!A98","v":97},null,{"$f":"IF([1]Leden!B98=0,\"\",[1]Leden!B98)","v":""},{"$f":"IF([1]Leden!C98=0,\"\",[1]Leden!C98)","v":""},{"$f":"IF([1]Leden!D98=0,\"\",[1]Leden!D98)","v":""},null,"-",null,null,"-",null,null,"-",null,{"$f":"IF(G99>I99,1,0)","v":0},{"$f":"IF(J99>L99,1,0)","v":0},{"$f":"IF(M99>O99,1,0)","v":0},{"$f":"IF(C99=1,G99+J99+M99,0)","v":0},{"$f":"IF(C99=1,I99+L99+O99,\"\")","v":""},{"$f":"IF(AND(C99=1,SUM(P99:R99)>0),SUM(P99:R99),\"\")","v":""},{"$f":"IF(C99=1,S99-T99,\"\")","v":""}]
[null,{"$f":"[1]Leden!A99","v":98},null,{"$f":"IF([1]Leden!B99=0,\"\",[1]Leden!B99)","v":""},{"$f":"IF([1]Leden!C99=0,\"\",[1]Leden!C99)","v":""},{"$f":"IF([1]Leden!D99=0,\"\",[1]Leden!D99)","v":""},null,"-",null,null,"-",null,null,"-",null,{"$f":"IF(G100>I100,1,0)","v":0},{"$f":"IF(J100>L100,1,0)","v":0},{"$f":"IF(M100>O100,1,0)","v":0},{"$f":"IF(C100=1,G100+J100+M100,0)","v":0},{"$f":"IF(C100=1,I100+L100+O100,\"\")","v":""},{"$f":"IF(AND(C100=1,SUM(P100:R100)>0),SUM(P100:R100),\"\")","v":""},{"$f":"IF(C100=1,S100-T100,\"\")","v":""}]
[null,{"$f":"[1]Leden!A100","v":99},null,{"$f":"IF([1]Leden!B100=0,\"\",[1]Leden!B100)","v":""},{"$f":"IF([1]Leden!C100=0,\"\",[1]Leden!C100)","v":""},{"$f":"IF([1]Leden!D100=0,\"\",[1]Leden!D100)","v":""},null,"-",null,null,"-",null,null,"-",null,{"$f":"IF(G101>I101,1,0)","v":0},{"$f":"IF(J101>L101,1,0)","v":0},{"$f":"IF(M101>O101,1,0)","v":0},{"$f":"IF(C101=1,G101+J101+M101,0)","v":0},{"$f":"IF(C101=1,I101+L101+O101,\"\")","v":""},{"$f":"IF(AND(C101=1,SUM(P101:R101)>0),SUM(P101:R101),\"\")","v":""},{"$f":"IF(C101=1,S101-T101,\"\")","v":""}]
[null,{"$f":"[1]Leden!A101","v":100},null,{"$f":"IF([1]Leden!B101=0,\"\",[1]Leden!B101)","v":""},{"$f":"IF([1]Leden!C101=0,\"\",[1]Leden!C101)","v":""},{"$f":"IF([1]Leden!D101=0,\"\",[1]Leden!D101)","v":""},null,"-",null,null,"-",null,null,"-",null,{"$f":"IF(G102>I102,1,0)","v":0},{"$f":"IF(J102>L102,1,0)","v":0},{"$f":"IF(M102>O102,1,0)","v":0},{"$f":"IF(C102=1,G102+J102+M102,0)","v":0},{"$f":"IF(C102=1,I102+L102+O102,\"\")","v":""},{"$f":"IF(AND(C102=1,SUM(P102:R102)>0),SUM(P102:R102),\"\")","v":""},{"$f":"IF(C102=1,S102-T102,\"\")","v":""}]
[]
[null,null,"Aantal deelnemers",null,{"$f":"      SUM(C3:C102)","v":10}]
[null,null,null,null,null,null,{"$f":"SUM(G3:G102)","v":96},null,96,88,null,88,94,null,94]
[null,null,null,null,null,"Correctie triplet"]
[null,null,null,null,null,"Controle",{"$f":"SUM(G105:G106)","v":96},null,{"$f":"SUM(I105:I106)","v":96},{"$f":"SUM(J105:J106)","v":88},null,88,94,null,94]